BEGIN:VCALENDAR
VERSION:2.0
PRODID:-//The Grapevine - ECPv6.15.20//NONSGML v1.0//EN
CALSCALE:GREGORIAN
METHOD:PUBLISH
X-ORIGINAL-URL:https://grapevinepocatello.com
X-WR-CALDESC:Events for The Grapevine
REFRESH-INTERVAL;VALUE=DURATION:PT1H
X-Robots-Tag:noindex
X-PUBLISHED-TTL:PT1H
BEGIN:VTIMEZONE
TZID:UTC
BEGIN:STANDARD
TZOFFSETFROM:+0000
TZOFFSETTO:+0000
TZNAME:UTC
DTSTART:20230101T000000
END:STANDARD
END:VTIMEZONE
BEGIN:VEVENT
DTSTART;TZID=UTC:20240314T170000
DTEND;TZID=UTC:20240314T190000
DTSTAMP:20260419T185116
CREATED:20240307T234501Z
LAST-MODIFIED:20240307T234501Z
UID:988-1710435600-1710442800@grapevinepocatello.com
SUMMARY:Annual Celtic Beer Tasting
DESCRIPTION:Next Thursday is our second annual Celtic Beer Tasting! We will have up to 5 different beers to taste! Prices for tickets will be available soon. Tickets must be bought the night of at the door. Stop by to try new beers and mingle with the locals! #craftbeer #beertasting #celticbeer #beer #supportlocal #pocatelloidaho
URL:https://grapevinepocatello.com/event/annual-celtic-beer-tasting/
LOCATION:The Grapevine\, 466 South 5th Avenue\, Pocatello\, ID\, 83201\, United States
CATEGORIES:Beer Tastings
ATTACH;FMTTYPE=image/jpeg:https://grapevinepocatello.com/wp-content/uploads/2024/03/Celctic_Mar14.jpg
END:VEVENT
BEGIN:VEVENT
DTSTART;TZID=UTC:20240117T163000
DTEND;TZID=UTC:20240117T173000
DTSTAMP:20260419T185116
CREATED:20240116T235826Z
LAST-MODIFIED:20240116T235903Z
UID:964-1705509000-1705512600@grapevinepocatello.com
SUMMARY:Melvin Sampling
DESCRIPTION:Free Melvin sampling this Wednesday! Stop by and see us!
URL:https://grapevinepocatello.com/event/melvin-sampling/
LOCATION:The Grapevine\, 466 South 5th Avenue\, Pocatello\, ID\, 83201\, United States
CATEGORIES:Beer Tastings
ATTACH;FMTTYPE=image/jpeg:https://grapevinepocatello.com/wp-content/uploads/2024/01/MelvinBrewing_Jan17.jpg
END:VEVENT
END:VCALENDAR