BEGIN:VCALENDAR
VERSION:2.0
PRODID:-//The Grapevine - ECPv6.15.20//NONSGML v1.0//EN
CALSCALE:GREGORIAN
METHOD:PUBLISH
X-WR-CALNAME:The Grapevine
X-ORIGINAL-URL:https://grapevinepocatello.com
X-WR-CALDESC:Events for The Grapevine
REFRESH-INTERVAL;VALUE=DURATION:PT1H
X-Robots-Tag:noindex
X-PUBLISHED-TTL:PT1H
BEGIN:VTIMEZONE
TZID:UTC
BEGIN:STANDARD
TZOFFSETFROM:+0000
TZOFFSETTO:+0000
TZNAME:UTC
DTSTART:20230101T000000
END:STANDARD
END:VTIMEZONE
BEGIN:VEVENT
DTSTART;TZID=UTC:20260326T170000
DTEND;TZID=UTC:20260326T190000
DTSTAMP:20260419T133241
CREATED:20260324T005719Z
LAST-MODIFIED:20260324T005719Z
UID:1016-1774544400-1774551600@grapevinepocatello.com
SUMMARY:March Wine Tasting
DESCRIPTION:Join Us On March 26th!
URL:https://grapevinepocatello.com/event/march-wine-tasting-2/
LOCATION:The Grapevine\, 466 South 5th Avenue\, Pocatello\, ID\, 83201\, United States
CATEGORIES:Wine Tastings
ATTACH;FMTTYPE=image/jpeg:https://grapevinepocatello.com/wp-content/uploads/2026/03/Grapevine.jpeg
END:VEVENT
BEGIN:VEVENT
DTSTART;TZID=UTC:20240725T170000
DTEND;TZID=UTC:20240725T190000
DTSTAMP:20260419T133241
CREATED:20240715T133512Z
LAST-MODIFIED:20240715T133512Z
UID:1008-1721926800-1721934000@grapevinepocatello.com
SUMMARY:July Wine Tasting
DESCRIPTION:Summer is here and in full swing! Need something to do and beat the heat? Stop by The Grapevine Thursday\, July 25th for our monthly wine tasting! Join us for good company and 5 different delicious wines to try for only $10!
URL:https://grapevinepocatello.com/event/july-wine-tasting/
LOCATION:The Grapevine\, 466 South 5th Avenue\, Pocatello\, ID\, 83201\, United States
CATEGORIES:Wine Tastings
ATTACH;FMTTYPE=image/jpeg:https://grapevinepocatello.com/wp-content/uploads/2024/07/IMG_2060.jpg
END:VEVENT
BEGIN:VEVENT
DTSTART;TZID=UTC:20240627T170000
DTEND;TZID=UTC:20240627T190000
DTSTAMP:20260419T133241
CREATED:20240628T161428Z
LAST-MODIFIED:20240628T161507Z
UID:1003-1719507600-1719514800@grapevinepocatello.com
SUMMARY:June Wine Tasting
DESCRIPTION:Summer wine tasting season is about to begin! Our wine tasting will be Thursday June 27th from 5pm-7pm. We will have plenty of refreshments and lots of good company. Tickets for the tasting will be available at the door for $10 with valid I.D.\, must be 21+ and older. We wish everyone a safe and fun summer!
URL:https://grapevinepocatello.com/event/june-wine-tasting/
LOCATION:The Grapevine\, 466 South 5th Avenue\, Pocatello\, ID\, 83201\, United States
CATEGORIES:Wine Tastings
ATTACH;FMTTYPE=image/jpeg:https://grapevinepocatello.com/wp-content/uploads/2024/06/WineTasting_June27.jpg
END:VEVENT
BEGIN:VEVENT
DTSTART;TZID=UTC:20240523T170000
DTEND;TZID=UTC:20240523T190000
DTSTAMP:20260419T133241
CREATED:20240509T195927Z
LAST-MODIFIED:20240509T195927Z
UID:999-1716483600-1716490800@grapevinepocatello.com
SUMMARY:May Wine Tasting
DESCRIPTION:Thursday May 23rd is our next wine tasting! $10 tickets at the door on the night of the tasting. We will be pouring wine from 5pm-7pm\, so make sure to arrange a ride or arrive on time to get a parking spot! We can’t wait to see you all!
URL:https://grapevinepocatello.com/event/may-wine-tasting/
LOCATION:The Grapevine\, 466 South 5th Avenue\, Pocatello\, ID\, 83201\, United States
CATEGORIES:Wine Tastings
ATTACH;FMTTYPE=image/jpeg:https://grapevinepocatello.com/wp-content/uploads/2024/05/WineTasting_May23.jpg
END:VEVENT
BEGIN:VEVENT
DTSTART;TZID=UTC:20240328T170000
DTEND;TZID=UTC:20240328T190000
DTSTAMP:20260419T133241
CREATED:20240311T212028Z
LAST-MODIFIED:20240311T212028Z
UID:991-1711645200-1711652400@grapevinepocatello.com
SUMMARY:March Wine Tasting
DESCRIPTION:Our monthly wine tasting will be Thursday March 28\, 2024 from 5pm-7pm. $10 tickets at the door. As a heads up arrive on time for parking\, it’s first come first serve\, or try to be dropped off. If you have any questions please message us or call 208-232-5218. See you all soon!
URL:https://grapevinepocatello.com/event/march-wine-tasting/
LOCATION:The Grapevine\, 466 South 5th Avenue\, Pocatello\, ID\, 83201\, United States
CATEGORIES:Wine Tastings
ATTACH;FMTTYPE=image/jpeg:https://grapevinepocatello.com/wp-content/uploads/2024/03/WineTasting_Mar28.jpg
END:VEVENT
BEGIN:VEVENT
DTSTART;TZID=UTC:20240314T170000
DTEND;TZID=UTC:20240314T190000
DTSTAMP:20260419T133241
CREATED:20240307T234501Z
LAST-MODIFIED:20240307T234501Z
UID:988-1710435600-1710442800@grapevinepocatello.com
SUMMARY:Annual Celtic Beer Tasting
DESCRIPTION:Next Thursday is our second annual Celtic Beer Tasting! We will have up to 5 different beers to taste! Prices for tickets will be available soon. Tickets must be bought the night of at the door. Stop by to try new beers and mingle with the locals! #craftbeer #beertasting #celticbeer #beer #supportlocal #pocatelloidaho
URL:https://grapevinepocatello.com/event/annual-celtic-beer-tasting/
LOCATION:The Grapevine\, 466 South 5th Avenue\, Pocatello\, ID\, 83201\, United States
CATEGORIES:Beer Tastings
ATTACH;FMTTYPE=image/jpeg:https://grapevinepocatello.com/wp-content/uploads/2024/03/Celctic_Mar14.jpg
END:VEVENT
BEGIN:VEVENT
DTSTART;TZID=UTC:20240222T170000
DTEND;TZID=UTC:20240222T190000
DTSTAMP:20260419T133241
CREATED:20240204T221134Z
LAST-MODIFIED:20240204T221200Z
UID:983-1708621200-1708628400@grapevinepocatello.com
SUMMARY:February Wine Tasting
DESCRIPTION:If you missed our tasting earlier this month\, you are in luck! February 22\, 2024 is our regularly scheduled wine tasting! Tickets will be $10 per person at the door for 5 wines. Stop by to see us and many of our regular patrons for a great time.
URL:https://grapevinepocatello.com/event/february-wine-tasting/
LOCATION:The Grapevine\, 466 South 5th Avenue\, Pocatello\, ID\, 83201\, United States
ATTACH;FMTTYPE=image/jpeg:https://grapevinepocatello.com/wp-content/uploads/2024/02/WineTasting_Feb22.jpg
END:VEVENT
BEGIN:VEVENT
DTSTART;TZID=UTC:20240209T170000
DTEND;TZID=UTC:20240209T190000
DTSTAMP:20260419T133241
CREATED:20240128T173602Z
LAST-MODIFIED:20240128T173602Z
UID:979-1707498000-1707505200@grapevinepocatello.com
SUMMARY:Free Roadhouse Beer Sampling
DESCRIPTION:Free Roadhouse Beer Sampling Night! Friday February 9\, 2024 at The Grapevine!
URL:https://grapevinepocatello.com/event/free-roadhouse-beer-sampling/
LOCATION:The Grapevine\, 466 South 5th Avenue\, Pocatello\, ID\, 83201\, United States
ATTACH;FMTTYPE=image/jpeg:https://grapevinepocatello.com/wp-content/uploads/2024/01/RoadhouseTasting_Feb9.jpg
END:VEVENT
BEGIN:VEVENT
DTSTART;TZID=UTC:20240208T170000
DTEND;TZID=UTC:20240208T190000
DTSTAMP:20260419T133241
CREATED:20240128T164915Z
LAST-MODIFIED:20240128T164915Z
UID:971-1707411600-1707418800@grapevinepocatello.com
SUMMARY:Pre-Valentine's Day Wine Tasting
DESCRIPTION:Thursday\, February 8th\, 2024 is our Pre-Valentine’s Day wine tasting! This includes 6 wines to try for $15. Chocolate\, champagne and red wine is sure to be a great date night!
URL:https://grapevinepocatello.com/event/pre-valentines-day-wine-tasting/
LOCATION:The Grapevine\, 466 South 5th Avenue\, Pocatello\, ID\, 83201\, United States
ATTACH;FMTTYPE=image/jpeg:https://grapevinepocatello.com/wp-content/uploads/2024/01/Valentine_Feb8.jpg
END:VEVENT
BEGIN:VEVENT
DTSTART;TZID=UTC:20240125T170000
DTEND;TZID=UTC:20240125T190000
DTSTAMP:20260419T133241
CREATED:20240117T000048Z
LAST-MODIFIED:20240117T000048Z
UID:967-1706202000-1706209200@grapevinepocatello.com
SUMMARY:New Year Tasting!
DESCRIPTION:Our first wine tasting of the year will be Thursday- January 25\, 2024 from 5pm-7pm.\n\nTickets will be $10 at the door. We are located at 466 South 5th Ave\, Pocatello\, ID. 83201. We can’t wait to see everyone! As always we will have snacks\, chocolate and refreshments. Be sure to get here on time to find parking!\n\n\n\nWine tastings will always be held on the fourth Thursday of the month unless it interferes with a holiday. We will keep everyone updated if it changes.
URL:https://grapevinepocatello.com/event/new-year-tasting/
LOCATION:The Grapevine\, 466 South 5th Avenue\, Pocatello\, ID\, 83201\, United States
CATEGORIES:Wine Tastings
ATTACH;FMTTYPE=image/jpeg:https://grapevinepocatello.com/wp-content/uploads/2024/01/WineTasting_Jan25.jpg
END:VEVENT
BEGIN:VEVENT
DTSTART;TZID=UTC:20240117T163000
DTEND;TZID=UTC:20240117T173000
DTSTAMP:20260419T133241
CREATED:20240116T235826Z
LAST-MODIFIED:20240116T235903Z
UID:964-1705509000-1705512600@grapevinepocatello.com
SUMMARY:Melvin Sampling
DESCRIPTION:Free Melvin sampling this Wednesday! Stop by and see us!
URL:https://grapevinepocatello.com/event/melvin-sampling/
LOCATION:The Grapevine\, 466 South 5th Avenue\, Pocatello\, ID\, 83201\, United States
CATEGORIES:Beer Tastings
ATTACH;FMTTYPE=image/jpeg:https://grapevinepocatello.com/wp-content/uploads/2024/01/MelvinBrewing_Jan17.jpg
END:VEVENT
END:VCALENDAR